BEGIN:VCALENDAR
VERSION:2.0
PRODID:-//Günder - ECPv6.0.13.1//NONSGML v1.0//EN
CALSCALE:GREGORIAN
METHOD:PUBLISH
X-ORIGINAL-URL:https://www.gunder.org.tr
X-WR-CALDESC:Günder için etkinlikler
REFRESH-INTERVAL;VALUE=DURATION:PT1H
X-Robots-Tag:noindex
X-PUBLISHED-TTL:PT1H
BEGIN:VTIMEZONE
TZID:UTC
BEGIN:STANDARD
TZOFFSETFROM:+0000
TZOFFSETTO:+0000
TZNAME:UTC
DTSTART:20230101T000000
END:STANDARD
END:VTIMEZONE
BEGIN:VEVENT
DTSTART;TZID=UTC:20230323T080000
DTEND;TZID=UTC:20230323T180000
DTSTAMP:20260423T075103
CREATED:20230130T084815Z
LAST-MODIFIED:20230214T063736Z
UID:7755-1679558400-1679594400@www.gunder.org.tr
SUMMARY:Türkiye Fotovoltaik Teknolojileri Platformu (TFTP) 1. Çalıştay-23 Mart 2023\, Ankara
DESCRIPTION:ODTÜ GÜNAM\, TÜBİTAK 1004 Mükemmeliyet Merkezi Destek Programı “Yüksek Teknoloji Platformları Çağrısı” doğrultusunda kurulmuş olan Türkiye Fotovoltaik Teknolojileri Platformu (TFTP)’nun 1. Kamuya Açık Çalıştayı ile ilgili duyuru yayınladı. \nODTÜ GÜNAM’dan yapılan duyuru şöyle: \n“Ülkemizde 6 Şubat ve sonrasında meydana gelen depremler sonrası sizin ve ailenizin iyi olduğunu umuyor; yakınlarınızdan veya tanıdıklarınızdan vefat edenlere başsağlığı\, yaralılarınıza acil şifalar ve geçmiş olsun dileklerimizi gönderiyoruz. \nBu afetler nedeniyle\, 20 Şubat 2023 tarihinde ODTÜ Kültür ve Kongre Merkezi’nde düzenlenecek olan “Türkiye Fotovoltaik Teknolojileri Platformu (TFTP) – FV Teknolojileri Çalıştayı” etkinliğimiz ertelenmiştir. Çalıştay\, 23 Mart 2023 Perşembe günü ODTÜ Kültür ve Kongre Merkezi A Salonu’nda düzenlenecektir.“ \nAyrıntılı bilgi için: ODTÜ GÜNAM
URL:https://www.gunder.org.tr/event/turkiye-fotovoltaik-teknolojileri-platformu-tftp-1-calistay-20-subat-2023-ankara/
LOCATION:ODTÜ KKM
CATEGORIES:Çalıştay
ATTACH;FMTTYPE=image/png:https://www.gunder.org.tr/wp-content/uploads/2023/01/TFTP_Calistayi_Mart2023.png
END:VEVENT
BEGIN:VEVENT
DTSTART;TZID=UTC:20230323T140000
DTEND;TZID=UTC:20230323T170000
DTSTAMP:20260423T075103
CREATED:20230313T072759Z
LAST-MODIFIED:20230313T072759Z
UID:7969-1679580000-1679590800@www.gunder.org.tr
SUMMARY:👉💻⚡Web Semineri: Huawei Merc 1100W & 1300W Güç Optimizeri Çözümü
DESCRIPTION:23 Mart 2023 Perşembe günü saat 14:00’da  Huawei’in ÇözümPark Bilişim Portalı ile ortaklaşa gerçekleştireceği web seminerinde\, yenilenebilir enerji alanındaki teknolojilerden biri olan “Huawei Merc 1100W & 1300W Güç Optimizeri” çözümü tanıtılacak. \nİşletme\, bakım ve güvenlik noktasında SUN2000 50KTL M3 invertörü ile uyumlu çalışan\, ticari tip optimizer çözümü ile hangi önemli avantajları sunduğu\, Bilişim Uzmanı Hakan Uzuner’in moderatörlüğünde gerçekleşecek web seminerinde anlatılacak. Diğer konuşmacılar arasında: Huawei Digital Power Bölge Satış Müdürü Selina İnci Gehrlein\, Huawei Digital Power Servis Müdürü Adem Gezer ve ERC SİSTEM ELEKTRİK Satış Müdürü Derya Adıgüzel bulunuyor. \nAyrıntılı bilgi ve kayıt yaptırmak için: https://us02web.zoom.us/webinar/register/8916783643165/WN_Ss7Ys-tjRiiSdsfQibW9Dg
URL:https://www.gunder.org.tr/event/%f0%9f%91%89%f0%9f%92%bb%e2%9a%a1web-semineri-huawei-merc-1100w-1300w-guc-optimizeri-cozumu/
CATEGORIES:Seminer
ATTACH;FMTTYPE=image/jpeg:https://www.gunder.org.tr/wp-content/uploads/2023/03/huawei.jpeg
END:VEVENT
END:VCALENDAR